
BEGIN:VCALENDAR
PRODID:-//Buz Software// Calendar//EN
VERSION:2.0
METHOD:REQUEST
BEGIN:VEVENT
DTSTART:20260424T000000Z
DTEND:2026042300Z
LOCATION:The Montauk Club
TRANSP:OPAQUE
SEQUENCE:0
UID:746_746_746_746
DTSTAMP:20260420T131800Z
ORGANIZER:CN=The Montauk Club:mailto:membership@montaukclub.com
STATUS:CONFIRMED
DESCRIPTION:
SUMMARY:Book Club: The Big Oyster
PRIORITY:5
CLASS:PUBLIC
BEGIN:VALARM
TRIGGER:PT180M
ACTION:DISPLAY
DESCRIPTION:Reminder
END:VALARM
END:VEVENT
END:VCALENDAR
