
BEGIN:VCALENDAR
PRODID:-//Buz Software// Calendar//EN
VERSION:2.0
METHOD:REQUEST
BEGIN:VEVENT
DTSTART:20260423T000000Z
DTEND:2026042200Z
LOCATION:The Montauk Club
TRANSP:OPAQUE
SEQUENCE:0
UID:745_745_745_745
DTSTAMP:20260420T132300Z
ORGANIZER:CN=The Montauk Club:mailto:membership@montaukclub.com
STATUS:CONFIRMED
DESCRIPTION:
SUMMARY:Board Game Night:  Risk
PRIORITY:5
CLASS:PUBLIC
BEGIN:VALARM
TRIGGER:PT180M
ACTION:DISPLAY
DESCRIPTION:Reminder
END:VALARM
END:VEVENT
END:VCALENDAR
